BEGIN:VCALENDAR
VERSION:2.0
PRODID:-//Squarespace Inc/Squarespace 6//v6//EN
BEGIN:VEVENT
UID:5dbc88342a20dc0b0b8178e6@squarespace.com
DTSTAMP:20191101T193244Z
DTSTART:20200410T200000Z
DTEND:20200410T210000Z
SUMMARY:Good Friday
END:VEVENT
END:VCALENDAR
