BEGIN:VCALENDAR
VERSION:2.0
PRODID:-//Squarespace Inc/Squarespace 6//v6//EN
BEGIN:VEVENT
UID:5e39b50f0703dd077bc57b71@squarespace.com
DTSTAMP:20200204T181918Z
DTSTART:20200403T170000Z
DTEND:20200403T180000Z
SUMMARY:Men's Baseball Game (HOME)
END:VEVENT
END:VCALENDAR
