BEGIN:VCALENDAR
VERSION:2.0
PRODID:-//Squarespace Inc/Squarespace 6//v6//EN
BEGIN:VEVENT
UID:5e39b5aed92edf188d2bc61b@squarespace.com
DTSTAMP:20200204T182002Z
DTSTART:20200404T170000Z
DTEND:20200404T180000Z
SUMMARY:Men's Baseball Game (HOME)
END:VEVENT
END:VCALENDAR
