BEGIN:VCALENDAR
VERSION:2.0
PRODID:-//Squarespace Inc/Squarespace 6//v6//EN
BEGIN:VEVENT
UID:5e39b6969234572a14d8df0c@squarespace.com
DTSTAMP:20200204T182442Z
DTSTART:20200407T170000Z
DTEND:20200407T180000Z
SUMMARY:Men's Baseball Game (HOME)
END:VEVENT
END:VCALENDAR
