BEGIN:VCALENDAR
VERSION:2.0
PRODID:-//Squarespace Inc/Squarespace 6//v6//EN
BEGIN:VEVENT
UID:5e2208acc2ab31059e16151d@squarespace.com
DTSTAMP:20200117T191924Z
DTSTART:20200501T120000Z
DTEND:20200501T130000Z
SUMMARY:Last Day of Classes
END:VEVENT
END:VCALENDAR
