BEGIN:VCALENDAR
VERSION:2.0
PRODID:-//Squarespace Inc/Squarespace 6//v6//EN
BEGIN:VEVENT
UID:5dbc88ccbdcde61cc65e91c3@squarespace.com
DTSTAMP:20191101T193536Z
DTSTART:20200504T120000Z
DTEND:20200507T010000Z
SUMMARY:Finals
END:VEVENT
END:VCALENDAR
