BEGIN:VCALENDAR
VERSION:2.0
PRODID:-//Squarespace Inc/Squarespace 6//v6//EN
BEGIN:VEVENT
UID:5dbc8956485ad252d2c75da3@squarespace.com
DTSTAMP:20191101T193818Z
DTSTART:20200610T120000Z
DTEND:20200614T130000Z
SUMMARY:Ministry &amp\; Disciple Camp for Teens
END:VEVENT
END:VCALENDAR
