BEGIN:VCALENDAR
VERSION:2.0
PRODID:-//Squarespace Inc/Squarespace 6//v6//EN
BEGIN:VEVENT
UID:5f064c04f1d20d407d31362b@squarespace.com
DTSTAMP:20200708T224446Z
DTSTART:20200710T130000Z
DTEND:20200710T200000Z
SUMMARY:NEW STUDENT ONLINE REGISTRATION BEGINS
END:VEVENT
END:VCALENDAR
