BEGIN:VCALENDAR
VERSION:2.0
PRODID:-//Squarespace Inc/Squarespace 6//v6//EN
BEGIN:VEVENT
UID:5f075e30b41b1c0c7c337ca0@squarespace.com
DTSTAMP:20200709T183100Z
DTSTART:20201029T220000Z
DTEND:20201030T010000Z
SUMMARY:NEEWOLLAH
END:VEVENT
END:VCALENDAR
