BEGIN:VCALENDAR
VERSION:2.0
PRODID:-//Squarespace Inc/Squarespace 6//v6//EN
BEGIN:VEVENT
UID:5f064c6c7fb39713216ca804@squarespace.com
DTSTAMP:20200708T224618Z
DTSTART:20200703T040000Z
DTEND:20200704T035900Z
SUMMARY:OBSERVED HOLIDAY (CAMPUS CLOSED) 
END:VEVENT
END:VCALENDAR
