BEGIN:VCALENDAR
VERSION:2.0
PRODID:-//Squarespace Inc/Squarespace 6//v6//EN
BEGIN:VEVENT
UID:5f0641afbd6cfa7c6b89d430@squarespace.com
DTSTAMP:20200729T202051Z
DTSTART:20200812T120000Z
DTEND:20200812T200000Z
SUMMARY:MOVE-IN DAY
GEO:39.307138;-81.539951
LOCATION:Ohio Valley University\, 1 Campus View Drive\, Vienna\, WV\, 26105
 \, United States
END:VEVENT
END:VCALENDAR
