BEGIN:VCALENDAR
VERSION:2.0
PRODID:-//Squarespace Inc/Squarespace 6//v6//EN
BEGIN:VEVENT
UID:5f075c5b5a000861fed1882f@squarespace.com
DTSTAMP:20200709T180548Z
DTSTART:20200813T120000Z
DTEND:20200816T010000Z
SUMMARY:NEW STUDENT ORIENTATION
END:VEVENT
END:VCALENDAR
