BEGIN:VCALENDAR
VERSION:2.0
PRODID:-//Squarespace Inc/Squarespace 6//v6//EN
BEGIN:VEVENT
UID:5f0643a71121de22e4616879@squarespace.com
DTSTAMP:20200708T220841Z
DTSTART:20200815T120000Z
DTEND:20200815T210000Z
SUMMARY:LATE REGISTRATION
END:VEVENT
END:VCALENDAR
