BEGIN:VCALENDAR
VERSION:2.0
PRODID:-//Squarespace Inc/Squarespace 6//v6//EN
BEGIN:VEVENT
UID:5f075c8bbbcedf544e9cd1d4@squarespace.com
DTSTAMP:20200709T180629Z
DTSTART:20200817T120000Z
DTEND:20200817T210000Z
SUMMARY:FIRST DAY OF CLASSES
END:VEVENT
END:VCALENDAR
