BEGIN:VCALENDAR
VERSION:2.0
PRODID:-//Squarespace Inc/Squarespace 6//v6//EN
BEGIN:VEVENT
UID:5f075cb565122d2468127cbc@squarespace.com
DTSTAMP:20200709T180704Z
DTSTART:20200818T230000Z
DTEND:20200819T000000Z
SUMMARY:EXPO
END:VEVENT
END:VCALENDAR
