BEGIN:VCALENDAR
VERSION:2.0
PRODID:-//Squarespace Inc/Squarespace 6//v6//EN
BEGIN:VEVENT
UID:5f075b8efbbcbf64f0532dc8@squarespace.com
DTSTAMP:20200709T180235Z
DTSTART:20200804T120000Z
DTEND:20200805T010000Z
SUMMARY:RA'S RETURN TO CAMPUS
END:VEVENT
END:VCALENDAR
