BEGIN:VCALENDAR
VERSION:2.0
PRODID:-//Squarespace Inc/Squarespace 6//v6//EN
BEGIN:VEVENT
UID:5f075c062b31722e0c593ae1@squarespace.com
DTSTAMP:20200709T180454Z
DTSTART:20200809T120000Z
DTEND:20200810T010000Z
SUMMARY:FALL ATHLETE AND STUDENT LEADER MOVE IN DAY
END:VEVENT
END:VCALENDAR
