BEGIN:VCALENDAR
VERSION:2.0
PRODID:-//Squarespace Inc/Squarespace 6//v6//EN
BEGIN:VEVENT
UID:5f075d52af30d753ae7ad549@squarespace.com
DTSTAMP:20200709T180949Z
DTSTART:20200921T150000Z
DTEND:20200921T160000Z
SUMMARY:SGA INTRODUCTION
END:VEVENT
END:VCALENDAR
