BEGIN:VCALENDAR
VERSION:2.0
PRODID:-//Squarespace Inc/Squarespace 6//v6//EN
BEGIN:VEVENT
UID:5f075d76a3a15f75bc771292@squarespace.com
DTSTAMP:20200709T181029Z
DTSTART:20200924T150000Z
DTEND:20200925T010000Z
SUMMARY:SGA ELECTIONS
END:VEVENT
END:VCALENDAR
