BEGIN:VCALENDAR
VERSION:2.0
PRODID:-//Squarespace Inc/Squarespace 6//v6//EN
BEGIN:VEVENT
UID:5f075da2fbbcbf64f05398ad@squarespace.com
DTSTAMP:20200709T181110Z
DTSTART:20200928T120000Z
DTEND:20200928T210000Z
SUMMARY:SGA APPLICATIONS DUE
END:VEVENT
END:VCALENDAR
