BEGIN:VCALENDAR
VERSION:2.0
PRODID:-//Squarespace Inc/Squarespace 6//v6//EN
BEGIN:VEVENT
UID:5f075f8f1cf4d32cc3b155cc@squarespace.com
DTSTAMP:20200709T181921Z
DTSTART:20210111T130000Z
DTEND:20210111T210000Z
SUMMARY:CLASSES BEGIN
END:VEVENT
END:VCALENDAR
