BEGIN:VCALENDAR
VERSION:2.0
PRODID:-//Squarespace Inc/Squarespace 6//v6//EN
BEGIN:VEVENT
UID:5f92e20672310e7e19f54f7c@squarespace.com
DTSTAMP:20201023T140124Z
DTSTART:20210111T130000Z
DTEND:20210111T140000Z
SUMMARY:Spring Classes Begin 
END:VEVENT
END:VCALENDAR
