BEGIN:VCALENDAR
VERSION:2.0
PRODID:-//Squarespace Inc/Squarespace 6//v6//EN
BEGIN:VEVENT
UID:5fdaada34ffd03369e10166f@squarespace.com
DTSTAMP:20201217T040058Z
DTSTART:20210119T013000Z
DTEND:20210119T023000Z
SUMMARY:Spring Break Day 1 
GEO:39.307138;-81.539951
LOCATION:Ohio Valley University\, 1 Campus View Drive\, Vienna\, WV\, 26105
 \, United States
END:VEVENT
END:VCALENDAR
