BEGIN:VCALENDAR
VERSION:2.0
PRODID:-//Squarespace Inc/Squarespace 6//v6//EN
BEGIN:VEVENT
UID:5f075f48e6ce52639a3534de@squarespace.com
DTSTAMP:20200709T181842Z
DTSTART:20210106T130000Z
DTEND:20210107T210000Z
SUMMARY:FACULTY/STAFF WORKSHOP
END:VEVENT
END:VCALENDAR
