BEGIN:VCALENDAR
VERSION:2.0
PRODID:-//Squarespace Inc/Squarespace 6//v6//EN
BEGIN:VEVENT
UID:605e20284e0131024bf2821a@squarespace.com
DTSTAMP:20210326T175702Z
DTSTART:20211014T120000Z
DTEND:20211014T210000Z
SUMMARY:Mid-Term Grades Due 
GEO:39.307138;-81.539951
LOCATION:Ohio Valley University\, 1 Campus View Drive\, Vienna\, WV\, 26105
 \, United States
END:VEVENT
END:VCALENDAR
