BEGIN:VCALENDAR
VERSION:2.0
PRODID:-//Squarespace Inc/Squarespace 6//v6//EN
BEGIN:VEVENT
UID:613a01c4d3e2a13c4d72c1ac@squarespace.com
DTSTAMP:20210909T125911Z
DTSTART:20211015T120000Z
DTEND:20211018T030000Z
SUMMARY:Fall Break
GEO:39.307138;-81.539951
LOCATION:Ohio Valley University\, 1 Campus View Drive\, Vienna\, WV\, 26105
 \, United States
END:VEVENT
END:VCALENDAR
