BEGIN:VCALENDAR
VERSION:2.0
PRODID:-//Squarespace Inc/Squarespace 6//v6//EN
BEGIN:VEVENT
UID:60620465950ccf39d13b5d3b@squarespace.com
DTSTAMP:20210329T164734Z
DTSTART:20211110T130000Z
DTEND:20211111T010000Z
SUMMARY:Spring Registration Begins 
GEO:39.307138;-81.539951
LOCATION:Ohio Valley University\, 1 Campus View Drive\, Vienna\, WV\, 26105
 \, United States
END:VEVENT
END:VCALENDAR
