BEGIN:VCALENDAR
VERSION:2.0
PRODID:-//Squarespace Inc/Squarespace 6//v6//EN
BEGIN:VEVENT
UID:60a7ae0a188d6e641f0f8fc1@squarespace.com
DTSTAMP:20210521T125755Z
DTSTART:20211112T140000Z
DTEND:20211114T150000Z
SUMMARY:Homecoming 
GEO:39.307138;-81.539951
LOCATION:Ohio Valley University\, 1 Campus View Drive\, Vienna\, WV\, 26105
 \, United States
END:VEVENT
END:VCALENDAR
