BEGIN:VCALENDAR
VERSION:2.0
PRODID:-//Squarespace Inc/Squarespace 6//v6//EN
BEGIN:VEVENT
UID:606204f4b9a8973a1275ba41@squarespace.com
DTSTAMP:20210329T165009Z
DTSTART:20211122T130000Z
DTEND:20211126T200000Z
SUMMARY:Thanksgiving Break
GEO:39.307138;-81.539951
LOCATION:Ohio Valley University\, 1 Campus View Drive\, Vienna\, WV\, 26105
 \, United States
END:VEVENT
END:VCALENDAR
