BEGIN:VCALENDAR
VERSION:2.0
PRODID:-//Squarespace Inc/Squarespace 6//v6//EN
BEGIN:VEVENT
UID:60620543db1e98085ca95ed4@squarespace.com
DTSTAMP:20210329T165056Z
DTSTART:20211210T130000Z
DTEND:20211211T010000Z
SUMMARY:Last day of Classes 
GEO:39.307138;-81.539951
LOCATION:Ohio Valley University\, 1 Campus View Drive\, Vienna\, WV\, 26105
 \, United States
END:VEVENT
END:VCALENDAR
