BEGIN:VCALENDAR
VERSION:2.0
PRODID:-//Squarespace Inc/Squarespace 6//v6//EN
BEGIN:VEVENT
UID:606205b6c747717fe646fdc6@squarespace.com
DTSTAMP:20210329T165338Z
DTSTART:20211215T230000Z
DTEND:20211216T000000Z
SUMMARY:Residence Halls/Cafeteria Close
GEO:39.307138;-81.539951
LOCATION:Ohio Valley University\, 1 Campus View Drive\, Vienna\, WV\, 26105
 \, United States
END:VEVENT
END:VCALENDAR
