BEGIN:VCALENDAR
VERSION:2.0
PRODID:-//Squarespace Inc/Squarespace 6//v6//EN
BEGIN:VEVENT
UID:61aa617695ce313f4f2d938b@squarespace.com
DTSTAMP:20211203T182756Z
DTSTART:20211210T000000Z
DTEND:20211210T010000Z
SUMMARY:OVU Christmas Concert 
GEO:39.307138;-81.539951
LOCATION:Ohio Valley University\, 1 Campus View Drive\, Vienna\, WV\, 26105
 \, United States
END:VEVENT
END:VCALENDAR
