BEGIN:VCALENDAR
VERSION:2.0
PRODID:-//Squarespace Inc/Squarespace 6//v6//EN
BEGIN:VEVENT
UID:5f075fcfd4a734088ab28707@squarespace.com
DTSTAMP:20200709T182026Z
DTSTART:20210213T230000Z
DTEND:20210214T000000Z
SUMMARY:SWEETHEART DINNER
END:VEVENT
END:VCALENDAR
