BEGIN:VCALENDAR
VERSION:2.0
PRODID:-//Squarespace Inc/Squarespace 6//v6//EN
BEGIN:VEVENT
UID:5f075ffa37cbe0414064d55b@squarespace.com
DTSTAMP:20200709T182106Z
DTSTART:20210215T000000Z
DTEND:20210215T010000Z
SUMMARY:SNACK ATTACK
END:VEVENT
END:VCALENDAR
