BEGIN:VCALENDAR
VERSION:2.0
PRODID:-//Squarespace Inc/Squarespace 6//v6//EN
BEGIN:VEVENT
UID:6018248518bd98017e9e3be8@squarespace.com
DTSTAMP:20210201T155709Z
DTSTART:20210317T120000Z
DTEND:20210318T030000Z
SUMMARY:FALL 2021 Registration begins. 
GEO:39.307138;-81.539951
LOCATION:Ohio Valley University\, 1 Campus View Drive\, Vienna\, WV\, 26105
 \, United States
END:VEVENT
END:VCALENDAR
