BEGIN:VCALENDAR
VERSION:2.0
PRODID:-//Squarespace Inc/Squarespace 6//v6//EN
BEGIN:VEVENT
UID:5fdad869f54c7b2018c6ad2f@squarespace.com
DTSTAMP:20210201T155335Z
DTSTART:20210303T163000Z
DTEND:20210303T173000Z
SUMMARY:Spring Break Day 3
GEO:39.307138;-81.539951
LOCATION:Ohio Valley University\, 1 Campus View Drive\, Vienna\, WV\, 26105
 \, United States
END:VEVENT
END:VCALENDAR
