BEGIN:VCALENDAR
VERSION:2.0
PRODID:-//Squarespace Inc/Squarespace 6//v6//EN
BEGIN:VEVENT
UID:601824e59aebf60f9f99bc45@squarespace.com
DTSTAMP:20210201T155828Z
DTSTART:20210331T120000Z
DTEND:20210401T030000Z
SUMMARY:Last day to Withdraw from a class. 
GEO:39.307138;-81.539951
LOCATION:Ohio Valley University\, 1 Campus View Drive\, Vienna\, WV\, 26105
 \, United States
END:VEVENT
END:VCALENDAR
