BEGIN:VCALENDAR
VERSION:2.0
PRODID:-//Squarespace Inc/Squarespace 6//v6//EN
BEGIN:VEVENT
UID:6018242dde46700d5bbb5013@squarespace.com
DTSTAMP:20210201T155527Z
DTSTART:20210305T130000Z
DTEND:20210305T140000Z
SUMMARY:Mid-Term Grades Due
GEO:39.307138;-81.539951
LOCATION:Ohio Valley University\, 1 Campus View Drive\, Vienna\, WV\, 26105
 \, United States
END:VEVENT
END:VCALENDAR
