BEGIN:VCALENDAR
VERSION:2.0
PRODID:-//Squarespace Inc/Squarespace 6//v6//EN
BEGIN:VEVENT
UID:5fdad897350f617a98c68c5d@squarespace.com
DTSTAMP:20210201T160157Z
DTSTART:20210401T153000Z
DTEND:20210401T163000Z
SUMMARY:Spring Break Day 4
GEO:39.307138;-81.539951
LOCATION:Ohio Valley University\, 1 Campus View Drive\, Vienna\, WV\, 26105
 \, United States
END:VEVENT
END:VCALENDAR
