BEGIN:VCALENDAR
VERSION:2.0
PRODID:-//Squarespace Inc/Squarespace 6//v6//EN
BEGIN:VEVENT
UID:60748c9b2b04782931acc3e6@squarespace.com
DTSTAMP:20210412T181159Z
DTSTART:20210423T220000Z
DTEND:20210424T000000Z
SUMMARY:Spring Formal
GEO:39.307138;-81.539951
LOCATION:Ohio Valley University\, 1 Campus View Drive\, Vienna\, WV\, 26105
 \, United States
END:VEVENT
END:VCALENDAR
