BEGIN:VCALENDAR
VERSION:2.0
PRODID:-//Squarespace Inc/Squarespace 6//v6//EN
BEGIN:VEVENT
UID:60007af70a3c3e688a906641@squarespace.com
DTSTAMP:20210114T171047Z
DTSTART:20210424T163000Z
DTEND:20210424T173000Z
SUMMARY:Stepping Stones
GEO:39.307138;-81.539951
LOCATION:Ohio Valley University\, 1 Campus View Drive\, Vienna\, WV\, 26105
 \, United States
END:VEVENT
END:VCALENDAR
