BEGIN:VCALENDAR
VERSION:2.0
PRODID:-//Squarespace Inc/Squarespace 6//v6//EN
BEGIN:VEVENT
UID:6018253a280b4036f4ce2f3a@squarespace.com
DTSTAMP:20210201T155931Z
DTSTART:20210429T120000Z
DTEND:20210430T030000Z
SUMMARY:Reading/Review Day
GEO:39.307138;-81.539951
LOCATION:Ohio Valley University\, 1 Campus View Drive\, Vienna\, WV\, 26105
 \, United States
END:VEVENT
END:VCALENDAR
