BEGIN:VCALENDAR
VERSION:2.0
PRODID:-//Squarespace Inc/Squarespace 6//v6//EN
BEGIN:VEVENT
UID:5fdad9273674097dc3871b0d@squarespace.com
DTSTAMP:20210201T160042Z
DTSTART:20210430T153000Z
DTEND:20210430T163000Z
SUMMARY:Last Day of Classes
GEO:39.307138;-81.539951
LOCATION:Ohio Valley University\, 1 Campus View Drive\, Vienna\, WV\, 26105
 \, United States
END:VEVENT
END:VCALENDAR
