BEGIN:VCALENDAR
VERSION:2.0
PRODID:-//Squarespace Inc/Squarespace 6//v6//EN
BEGIN:VEVENT
UID:606212feda50931b6fe74f25@squarespace.com
DTSTAMP:20210406T173350Z
DTSTART:20210409T123000Z
DTEND:20210409T173000Z
SUMMARY:Encounter 
GEO:39.307138;-81.539951
LOCATION:Ohio Valley University\, 1 Campus View Drive\, Vienna\, WV\, 26105
 \, United States
END:VEVENT
END:VCALENDAR
