BEGIN:VCALENDAR
VERSION:2.0
PRODID:-//Squarespace Inc/Squarespace 6//v6//EN
BEGIN:VEVENT
UID:606c9b95008fa80576c4ccf1@squarespace.com
DTSTAMP:20210406T173631Z
DTSTART:20210504T120000Z
DTEND:20210504T210000Z
SUMMARY:Give Local
GEO:39.307138;-81.539951
LOCATION:Ohio Valley University\, 1 Campus View Drive\, Vienna\, WV\, 26105
 \, United States
END:VEVENT
END:VCALENDAR
