BEGIN:VCALENDAR
VERSION:2.0
PRODID:-//Squarespace Inc/Squarespace 6//v6//EN
BEGIN:VEVENT
UID:60182565de46700d5bbb7ffc@squarespace.com
DTSTAMP:20210201T160138Z
DTSTART:20210508T140000Z
DTEND:20210508T150000Z
SUMMARY:Graduation 
GEO:39.307138;-81.539951
LOCATION:Ohio Valley University\, 1 Campus View Drive\, Vienna\, WV\, 26105
 \, United States
END:VEVENT
END:VCALENDAR
