BEGIN:VCALENDAR
VERSION:2.0
PRODID:-//Squarespace Inc/Squarespace 6//v6//EN
BEGIN:VEVENT
UID:60a2abcfff06c22e8061a2e8@squarespace.com
DTSTAMP:20210517T174704Z
DTSTART:20210623T150000Z
DTEND:20210625T230000Z
SUMMARY:Mid Ohio Valley Lectures 
GEO:39.307138;-81.539951
LOCATION:Ohio Valley University\, 1 Campus View Drive\, Vienna\, WV\, 26105
 \, United States
END:VEVENT
END:VCALENDAR
