BEGIN:VCALENDAR
VERSION:2.0
PRODID:-//Squarespace Inc/Squarespace 6//v6//EN
BEGIN:VEVENT
UID:605e1d15eaeb990b09e91339@squarespace.com
DTSTAMP:20210326T174335Z
DTSTART:20210818T120000Z
DTEND:20210819T000000Z
SUMMARY:Freshmen Move in Day 
GEO:39.307138;-81.539951
LOCATION:Ohio Valley University\, 1 Campus View Drive\, Vienna\, WV\, 26105
 \, United States
END:VEVENT
END:VCALENDAR
