BEGIN:VCALENDAR
VERSION:2.0
PRODID:-//Squarespace Inc/Squarespace 6//v6//EN
BEGIN:VEVENT
UID:605e1d50de88c71521007eb9@squarespace.com
DTSTAMP:20210326T174508Z
DTSTART:20210821T120000Z
DTEND:20210822T000000Z
SUMMARY:Returners Move In Day
GEO:39.307138;-81.539951
LOCATION:Ohio Valley University\, 1 Campus View Drive\, Vienna\, WV\, 26105
 \, United States
END:VEVENT
END:VCALENDAR
