BEGIN:VCALENDAR
VERSION:2.0
PRODID:-//Squarespace Inc/Squarespace 6//v6//EN
BEGIN:VEVENT
UID:605e1dbedaf280668a9a416b@squarespace.com
DTSTAMP:20210326T174633Z
DTSTART:20210823T120000Z
DTEND:20210823T210000Z
SUMMARY:Classes Begin
GEO:39.307138;-81.539951
LOCATION:Ohio Valley University\, 1 Campus View Drive\, Vienna\, WV\, 26105
 \, United States
END:VEVENT
END:VCALENDAR
